BEGIN:VCALENDAR
VERSION:2.0
PRODID:-//Walk and Bike Month - Boulder, CO - ECPv6.15.20//NONSGML v1.0//EN
CALSCALE:GREGORIAN
METHOD:PUBLISH
X-WR-CALNAME:Walk and Bike Month - Boulder, CO
X-ORIGINAL-URL:http://walkandbikemonth.org.dream.website
X-WR-CALDESC:Events for Walk and Bike Month - Boulder, CO
REFRESH-INTERVAL;VALUE=DURATION:PT1H
X-Robots-Tag:noindex
X-PUBLISHED-TTL:PT1H
BEGIN:VTIMEZONE
TZID:America/Denver
BEGIN:DAYLIGHT
TZOFFSETFROM:-0700
TZOFFSETTO:-0600
TZNAME:MDT
DTSTART:20220313T090000
END:DAYLIGHT
BEGIN:STANDARD
TZOFFSETFROM:-0600
TZOFFSETTO:-0700
TZNAME:MST
DTSTART:20221106T080000
END:STANDARD
BEGIN:DAYLIGHT
TZOFFSETFROM:-0700
TZOFFSETTO:-0600
TZNAME:MDT
DTSTART:20230312T090000
END:DAYLIGHT
BEGIN:STANDARD
TZOFFSETFROM:-0600
TZOFFSETTO:-0700
TZNAME:MST
DTSTART:20231105T080000
END:STANDARD
BEGIN:DAYLIGHT
TZOFFSETFROM:-0700
TZOFFSETTO:-0600
TZNAME:MDT
DTSTART:20240310T090000
END:DAYLIGHT
BEGIN:STANDARD
TZOFFSETFROM:-0600
TZOFFSETTO:-0700
TZNAME:MST
DTSTART:20241103T080000
END:STANDARD
END:VTIMEZONE
BEGIN:VEVENT
DTSTART;TZID=America/Denver:20230613T180000
DTEND;TZID=America/Denver:20230613T200000
DTSTAMP:20260421T230529
CREATED:20230508T175512Z
LAST-MODIFIED:20230508T175552Z
UID:2302-1686679200-1686686400@walkandbikemonth.org.dream.website
SUMMARY:RIDE: GURLZ RIDE
DESCRIPTION:Ladies\, come on out for our fun rides and post-ride get-togethers! We love to ride and enjoy meeting other women who do too. We also support each other as we progress in our bike skills. Our ride has a sweep so you won’t get dropped. Join us! \n\nread more
URL:http://walkandbikemonth.org.dream.website/event/ride-gurlz-ride/
LOCATION:CO
ATTACH;FMTTYPE=image/jpeg:http://walkandbikemonth.org.dream.website/wp-content/uploads/2023/05/gurlz_2023-1.jpg
END:VEVENT
END:VCALENDAR